BEGIN:VCALENDAR
VERSION:2.0
PRODID:-//Atherstone Town Council - ECPv6.15.18//NONSGML v1.0//EN
CALSCALE:GREGORIAN
METHOD:PUBLISH
X-WR-CALNAME:Atherstone Town Council
X-ORIGINAL-URL:https://www.atherstone-tc.gov.uk
X-WR-CALDESC:Events for Atherstone Town Council
REFRESH-INTERVAL;VALUE=DURATION:PT1H
X-Robots-Tag:noindex
X-PUBLISHED-TTL:PT1H
BEGIN:VTIMEZONE
TZID:Europe/London
BEGIN:DAYLIGHT
TZOFFSETFROM:+0000
TZOFFSETTO:+0100
TZNAME:BST
DTSTART:20230326T010000
END:DAYLIGHT
BEGIN:STANDARD
TZOFFSETFROM:+0100
TZOFFSETTO:+0000
TZNAME:GMT
DTSTART:20231029T010000
END:STANDARD
BEGIN:DAYLIGHT
TZOFFSETFROM:+0000
TZOFFSETTO:+0100
TZNAME:BST
DTSTART:20240331T010000
END:DAYLIGHT
BEGIN:STANDARD
TZOFFSETFROM:+0100
TZOFFSETTO:+0000
TZNAME:GMT
DTSTART:20241027T010000
END:STANDARD
BEGIN:DAYLIGHT
TZOFFSETFROM:+0000
TZOFFSETTO:+0100
TZNAME:BST
DTSTART:20250330T010000
END:DAYLIGHT
BEGIN:STANDARD
TZOFFSETFROM:+0100
TZOFFSETTO:+0000
TZNAME:GMT
DTSTART:20251026T010000
END:STANDARD
END:VTIMEZONE
BEGIN:VEVENT
DTSTART;TZID=Europe/London:20240909T080000
DTEND;TZID=Europe/London:20240909T170000
DTSTAMP:20260423T161000
CREATED:20240909T094500Z
LAST-MODIFIED:20240909T094500Z
UID:8014-1725868800-1725901200@www.atherstone-tc.gov.uk
SUMMARY:Horse Racing with a Twist
DESCRIPTION:Get Ready for Atherstone’s Horse Race with a Twist! \nAtherstone Town Council is hosting a unique and thrilling event to raise funds for the Atherstone Dickens Event 2024—and you’re invited! \nJoin us on Sunday 22nd at the Market Square for an action-packed day featuring: \n8 Horses\, 8 Jockeys\, 8 Races! \nKids’ Races start at 1:30pm\, followed by exciting adult and team competitions. \n£5 per jockey to enter\, with a Trophy for the overall winner! \nIt’s the perfect fun-filled day for families\, individuals\, or teams. \nMark your calendars—don’t miss out on this unforgettable event! See you at the Market Square!
URL:https://www.atherstone-tc.gov.uk/event/horse-racing-with-a-twist/
CATEGORIES:Community Event
ATTACH;FMTTYPE=image/jpeg:https://www.atherstone-tc.gov.uk/wp-content/uploads/2024/09/thumbnail_Horse-Racing-Advert.jpg
END:VEVENT
END:VCALENDAR