BEGIN:VCALENDAR
VERSION:2.0
PRODID:-//Atherstone Town Council - ECPv6.15.18//NONSGML v1.0//EN
CALSCALE:GREGORIAN
METHOD:PUBLISH
X-ORIGINAL-URL:https://www.atherstone-tc.gov.uk
X-WR-CALDESC:Events for Atherstone Town Council
REFRESH-INTERVAL;VALUE=DURATION:PT1H
X-Robots-Tag:noindex
X-PUBLISHED-TTL:PT1H
BEGIN:VTIMEZONE
TZID:Europe/London
BEGIN:DAYLIGHT
TZOFFSETFROM:+0000
TZOFFSETTO:+0100
TZNAME:BST
DTSTART:20220327T010000
END:DAYLIGHT
BEGIN:STANDARD
TZOFFSETFROM:+0100
TZOFFSETTO:+0000
TZNAME:GMT
DTSTART:20221030T010000
END:STANDARD
BEGIN:DAYLIGHT
TZOFFSETFROM:+0000
TZOFFSETTO:+0100
TZNAME:BST
DTSTART:20230326T010000
END:DAYLIGHT
BEGIN:STANDARD
TZOFFSETFROM:+0100
TZOFFSETTO:+0000
TZNAME:GMT
DTSTART:20231029T010000
END:STANDARD
BEGIN:DAYLIGHT
TZOFFSETFROM:+0000
TZOFFSETTO:+0100
TZNAME:BST
DTSTART:20240331T010000
END:DAYLIGHT
BEGIN:STANDARD
TZOFFSETFROM:+0100
TZOFFSETTO:+0000
TZNAME:GMT
DTSTART:20241027T010000
END:STANDARD
END:VTIMEZONE
BEGIN:VEVENT
DTSTART;VALUE=DATE:20231112
DTEND;VALUE=DATE:20231113
DTSTAMP:20260424T084150
CREATED:20230728T145457Z
LAST-MODIFIED:20231103T142208Z
UID:5559-1699747200-1699833599@www.atherstone-tc.gov.uk
SUMMARY:Remembrance Service & Parade
DESCRIPTION:Atherstone Town Council would like to invite you to join us for our annual Remembrance Service and Parade on Sunday 12th November 2023.
URL:https://www.atherstone-tc.gov.uk/event/remembrance-parade/
CATEGORIES:Town Council Events
ATTACH;FMTTYPE=image/jpeg:https://www.atherstone-tc.gov.uk/wp-content/uploads/2020/11/javier-canada-lpqgctnyhjw-unsplash.jpg
ORGANIZER;CN="Atherstone Town Council":MAILTO:clerk@atherstone-tc.gov.uk
END:VEVENT
END:VCALENDAR