BEGIN:VCALENDAR
VERSION:2.0
PRODID:-//Atherstone Town Council - ECPv6.15.18//NONSGML v1.0//EN
CALSCALE:GREGORIAN
METHOD:PUBLISH
X-ORIGINAL-URL:https://www.atherstone-tc.gov.uk
X-WR-CALDESC:Events for Atherstone Town Council
REFRESH-INTERVAL;VALUE=DURATION:PT1H
X-Robots-Tag:noindex
X-PUBLISHED-TTL:PT1H
BEGIN:VTIMEZONE
TZID:Europe/London
BEGIN:DAYLIGHT
TZOFFSETFROM:+0000
TZOFFSETTO:+0100
TZNAME:BST
DTSTART:20200329T010000
END:DAYLIGHT
BEGIN:STANDARD
TZOFFSETFROM:+0100
TZOFFSETTO:+0000
TZNAME:GMT
DTSTART:20201025T010000
END:STANDARD
BEGIN:DAYLIGHT
TZOFFSETFROM:+0000
TZOFFSETTO:+0100
TZNAME:BST
DTSTART:20210328T010000
END:DAYLIGHT
BEGIN:STANDARD
TZOFFSETFROM:+0100
TZOFFSETTO:+0000
TZNAME:GMT
DTSTART:20211031T010000
END:STANDARD
BEGIN:DAYLIGHT
TZOFFSETFROM:+0000
TZOFFSETTO:+0100
TZNAME:BST
DTSTART:20220327T010000
END:DAYLIGHT
BEGIN:STANDARD
TZOFFSETFROM:+0100
TZOFFSETTO:+0000
TZNAME:GMT
DTSTART:20221030T010000
END:STANDARD
BEGIN:DAYLIGHT
TZOFFSETFROM:+0000
TZOFFSETTO:+0100
TZNAME:BST
DTSTART:20230326T010000
END:DAYLIGHT
BEGIN:STANDARD
TZOFFSETFROM:+0100
TZOFFSETTO:+0000
TZNAME:GMT
DTSTART:20231029T010000
END:STANDARD
BEGIN:DAYLIGHT
TZOFFSETFROM:+0000
TZOFFSETTO:+0100
TZNAME:BST
DTSTART:20240331T010000
END:DAYLIGHT
BEGIN:STANDARD
TZOFFSETFROM:+0100
TZOFFSETTO:+0000
TZNAME:GMT
DTSTART:20241027T010000
END:STANDARD
BEGIN:DAYLIGHT
TZOFFSETFROM:+0000
TZOFFSETTO:+0100
TZNAME:BST
DTSTART:20250330T010000
END:DAYLIGHT
BEGIN:STANDARD
TZOFFSETFROM:+0100
TZOFFSETTO:+0000
TZNAME:GMT
DTSTART:20251026T010000
END:STANDARD
BEGIN:DAYLIGHT
TZOFFSETFROM:+0000
TZOFFSETTO:+0100
TZNAME:BST
DTSTART:20260329T010000
END:DAYLIGHT
BEGIN:STANDARD
TZOFFSETFROM:+0100
TZOFFSETTO:+0000
TZNAME:GMT
DTSTART:20261025T010000
END:STANDARD
END:VTIMEZONE
BEGIN:VEVENT
DTSTART;TZID=Europe/London:20250408T180000
DTEND;TZID=Europe/London:20250408T180000
DTSTAMP:20260419T140548
CREATED:20250402T131218Z
LAST-MODIFIED:20250731T123040Z
UID:9117-1744135200-1744135200@www.atherstone-tc.gov.uk
SUMMARY:Extraordinary Employment Committee Meeting
DESCRIPTION:
URL:https://www.atherstone-tc.gov.uk/event/extraordinary-employment-committee-meeting-2/
LOCATION:The Committee Room\, Civic Suite\, NWBC\, South St\, Atherstone\, CV9 1DE\, United Kingdom
CATEGORIES:Town Council Meetings
ORGANIZER;CN="Atherstone Town Council":MAILTO:clerk@atherstone-tc.gov.uk
END:VEVENT
BEGIN:VEVENT
DTSTART;TZID=Europe/London:20250328T180000
DTEND;TZID=Europe/London:20250328T180000
DTSTAMP:20260419T140548
CREATED:20250324T164640Z
LAST-MODIFIED:20250424T135208Z
UID:9084-1743184800-1743184800@www.atherstone-tc.gov.uk
SUMMARY:Extraordinary Full Council Meeting
DESCRIPTION:
URL:https://www.atherstone-tc.gov.uk/event/extraordinary-full-council-meeting/
LOCATION:The Committee Room\, Civic Suite\, NWBC\, South St\, Atherstone\, CV9 1DE\, United Kingdom
CATEGORIES:Town Council Meetings
ORGANIZER;CN="Atherstone Town Council":MAILTO:clerk@atherstone-tc.gov.uk
END:VEVENT
BEGIN:VEVENT
DTSTART;TZID=Europe/London:20250319T190000
DTEND;TZID=Europe/London:20250319T190000
DTSTAMP:20260419T140548
CREATED:20240606T111650Z
LAST-MODIFIED:20250424T134927Z
UID:7389-1742410800-1742410800@www.atherstone-tc.gov.uk
SUMMARY:Full Council Meeting
DESCRIPTION:
URL:https://www.atherstone-tc.gov.uk/event/full-council-meeting-14/
LOCATION:The Committee Room\, Civic Suite\, NWBC\, South St\, Atherstone\, CV9 1DE\, United Kingdom
CATEGORIES:Town Council Meetings
ORGANIZER;CN="Atherstone Town Council":MAILTO:clerk@atherstone-tc.gov.uk
END:VEVENT
BEGIN:VEVENT
DTSTART;TZID=Europe/London:20250305T190000
DTEND;TZID=Europe/London:20250305T190000
DTSTAMP:20260419T140548
CREATED:20250227T153002Z
LAST-MODIFIED:20250731T123113Z
UID:9025-1741201200-1741201200@www.atherstone-tc.gov.uk
SUMMARY:Extraordinary Employment Committee Meeting
DESCRIPTION:
URL:https://www.atherstone-tc.gov.uk/event/extraordinary-employment-committee-meeting/
LOCATION:cv9 1eh\, Outwoods Primary School\, Atherstone\, Warwickshire\, CV9 1EH\, United Kingdom
CATEGORIES:Town Council Meetings
ORGANIZER;CN="Atherstone Town Council":MAILTO:clerk@atherstone-tc.gov.uk
END:VEVENT
BEGIN:VEVENT
DTSTART;TZID=Europe/London:20250220T180000
DTEND;TZID=Europe/London:20250220T180000
DTSTAMP:20260419T140548
CREATED:20250214T221611Z
LAST-MODIFIED:20250325T143633Z
UID:8991-1740074400-1740074400@www.atherstone-tc.gov.uk
SUMMARY:Extraordinary Council Meeting
DESCRIPTION:
URL:https://www.atherstone-tc.gov.uk/event/extraordinary-council-meeting/
LOCATION:The Committee Room\, Civic Suite\, NWBC\, South St\, Atherstone\, CV9 1DE\, United Kingdom
CATEGORIES:Town Council Meetings
ORGANIZER;CN="Atherstone Town Council":MAILTO:clerk@atherstone-tc.gov.uk
END:VEVENT
BEGIN:VEVENT
DTSTART;TZID=Europe/London:20250212T191500
DTEND;TZID=Europe/London:20250212T191500
DTSTAMP:20260419T140548
CREATED:20240606T111531Z
LAST-MODIFIED:20250221T100359Z
UID:7383-1739387700-1739387700@www.atherstone-tc.gov.uk
SUMMARY:Full Council Meeting
DESCRIPTION:
URL:https://www.atherstone-tc.gov.uk/event/full-council-meeting-12/
LOCATION:The Committee Room\, Civic Suite\, NWBC\, South St\, Atherstone\, CV9 1DE\, United Kingdom
CATEGORIES:Town Council Meetings
ORGANIZER;CN="Atherstone Town Council":MAILTO:clerk@atherstone-tc.gov.uk
END:VEVENT
BEGIN:VEVENT
DTSTART;TZID=Europe/London:20250122T191500
DTEND;TZID=Europe/London:20250122T191500
DTSTAMP:20260419T140548
CREATED:20240606T111155Z
LAST-MODIFIED:20250213T121940Z
UID:7368-1737573300-1737573300@www.atherstone-tc.gov.uk
SUMMARY:Full Council Meeting
DESCRIPTION:
URL:https://www.atherstone-tc.gov.uk/event/full-council-meeting-11/
LOCATION:The Committee Room\, Civic Suite\, NWBC\, South St\, Atherstone\, CV9 1DE\, United Kingdom
CATEGORIES:Town Council Meetings
ORGANIZER;CN="Atherstone Town Council":MAILTO:clerk@atherstone-tc.gov.uk
END:VEVENT
BEGIN:VEVENT
DTSTART;TZID=Europe/London:20250122T184500
DTEND;TZID=Europe/London:20250122T184500
DTSTAMP:20260419T140548
CREATED:20240606T113303Z
LAST-MODIFIED:20240606T113306Z
UID:7427-1737571500-1737571500@www.atherstone-tc.gov.uk
SUMMARY:Community Forum
DESCRIPTION:
URL:https://www.atherstone-tc.gov.uk/event/community-forum-9/
LOCATION:The Committee Room\, Civic Suite\, NWBC\, South St\, Atherstone\, CV9 1DE\, United Kingdom
CATEGORIES:Town Council Meetings
ORGANIZER;CN="Atherstone Town Council":MAILTO:clerk@atherstone-tc.gov.uk
END:VEVENT
BEGIN:VEVENT
DTSTART;TZID=Europe/London:20250108T190000
DTEND;TZID=Europe/London:20250108T190000
DTSTAMP:20260419T140548
CREATED:20250103T135516Z
LAST-MODIFIED:20250204T150152Z
UID:8754-1736362800-1736362800@www.atherstone-tc.gov.uk
SUMMARY:Extraordinary Meeting
DESCRIPTION:
URL:https://www.atherstone-tc.gov.uk/event/extraordinary-meeting-8th-january-2025/
LOCATION:The Committee Room\, Civic Suite\, NWBC\, South St\, Atherstone\, CV9 1DE\, United Kingdom
CATEGORIES:Town Council Meetings
ORGANIZER;CN="Atherstone Town Council":MAILTO:clerk@atherstone-tc.gov.uk
END:VEVENT
BEGIN:VEVENT
DTSTART;TZID=Europe/London:20241203T190000
DTEND;TZID=Europe/London:20241203T190000
DTSTAMP:20260419T140548
CREATED:20241127T100010Z
LAST-MODIFIED:20250731T123144Z
UID:8514-1733252400-1733252400@www.atherstone-tc.gov.uk
SUMMARY:Employment Committee
DESCRIPTION:
URL:https://www.atherstone-tc.gov.uk/event/employment-committee/
LOCATION:The Committee Room\, Civic Suite\, NWBC\, South St\, Atherstone\, CV9 1DE\, United Kingdom
CATEGORIES:Town Council Meetings
ORGANIZER;CN="Atherstone Town Council":MAILTO:clerk@atherstone-tc.gov.uk
END:VEVENT
BEGIN:VEVENT
DTSTART;TZID=Europe/London:20241113T191500
DTEND;TZID=Europe/London:20241113T191500
DTSTAMP:20260419T140548
CREATED:20240606T111012Z
LAST-MODIFIED:20250204T150011Z
UID:7362-1731525300-1731525300@www.atherstone-tc.gov.uk
SUMMARY:Full Council Meeting
DESCRIPTION:
URL:https://www.atherstone-tc.gov.uk/event/full-council-meeting-9/
LOCATION:The Committee Room\, Civic Suite\, NWBC\, South St\, Atherstone\, CV9 1DE\, United Kingdom
CATEGORIES:Town Council Meetings
ORGANIZER;CN="Atherstone Town Council":MAILTO:clerk@atherstone-tc.gov.uk
END:VEVENT
BEGIN:VEVENT
DTSTART;TZID=Europe/London:20241113T184500
DTEND;TZID=Europe/London:20241113T184500
DTSTAMP:20260419T140548
CREATED:20240606T113135Z
LAST-MODIFIED:20240606T113138Z
UID:7419-1731523500-1731523500@www.atherstone-tc.gov.uk
SUMMARY:Community Forum
DESCRIPTION:
URL:https://www.atherstone-tc.gov.uk/event/community-forum-7/
LOCATION:The Committee Room\, Civic Suite\, NWBC\, South St\, Atherstone\, CV9 1DE\, United Kingdom
CATEGORIES:Town Council Meetings
ORGANIZER;CN="Atherstone Town Council":MAILTO:clerk@atherstone-tc.gov.uk
END:VEVENT
BEGIN:VEVENT
DTSTART;TZID=Europe/London:20241016T191500
DTEND;TZID=Europe/London:20241016T191500
DTSTAMP:20260419T140548
CREATED:20240606T110924Z
LAST-MODIFIED:20241115T124413Z
UID:7358-1729106100-1729106100@www.atherstone-tc.gov.uk
SUMMARY:Full Council Meeting
DESCRIPTION:
URL:https://www.atherstone-tc.gov.uk/event/full-council-meeting-8/
LOCATION:The Committee Room\, Civic Suite\, NWBC\, South St\, Atherstone\, CV9 1DE\, United Kingdom
CATEGORIES:Town Council Meetings
ORGANIZER;CN="Atherstone Town Council":MAILTO:clerk@atherstone-tc.gov.uk
END:VEVENT
BEGIN:VEVENT
DTSTART;TZID=Europe/London:20241016T184500
DTEND;TZID=Europe/London:20241016T184500
DTSTAMP:20260419T140548
CREATED:20240606T113002Z
LAST-MODIFIED:20241030T142314Z
UID:7414-1729104300-1729104300@www.atherstone-tc.gov.uk
SUMMARY:Community Forum
DESCRIPTION:
URL:https://www.atherstone-tc.gov.uk/event/community-forum-6/
LOCATION:The Committee Room\, Civic Suite\, NWBC\, South St\, Atherstone\, CV9 1DE\, United Kingdom
CATEGORIES:Town Council Meetings
ORGANIZER;CN="Atherstone Town Council":MAILTO:clerk@atherstone-tc.gov.uk
END:VEVENT
BEGIN:VEVENT
DTSTART;TZID=Europe/London:20241008T183000
DTEND;TZID=Europe/London:20241008T183000
DTSTAMP:20260419T140548
CREATED:20241114T110545Z
LAST-MODIFIED:20241114T111146Z
UID:8440-1728412200-1728412200@www.atherstone-tc.gov.uk
SUMMARY:Community Forum - Grand Union Canal Transfer
DESCRIPTION:
URL:https://www.atherstone-tc.gov.uk/event/community-forum-grand-union-canal-transfer-2/
LOCATION:The Committee Room\, Civic Suite\, NWBC\, South St\, Atherstone\, CV9 1DE\, United Kingdom
CATEGORIES:Town Council Meetings
ORGANIZER;CN="Atherstone Town Council":MAILTO:clerk@atherstone-tc.gov.uk
END:VEVENT
BEGIN:VEVENT
DTSTART;TZID=Europe/London:20240918T191500
DTEND;TZID=Europe/London:20240918T191500
DTSTAMP:20260419T140548
CREATED:20240606T110832Z
LAST-MODIFIED:20241024T092041Z
UID:7355-1726686900-1726686900@www.atherstone-tc.gov.uk
SUMMARY:Full Council Meeting
DESCRIPTION:
URL:https://www.atherstone-tc.gov.uk/event/full-council-meeting-7/
LOCATION:The Committee Room\, Civic Suite\, NWBC\, South St\, Atherstone\, CV9 1DE\, United Kingdom
CATEGORIES:Town Council Meetings
ORGANIZER;CN="Atherstone Town Council":MAILTO:clerk@atherstone-tc.gov.uk
END:VEVENT
BEGIN:VEVENT
DTSTART;TZID=Europe/London:20240918T184500
DTEND;TZID=Europe/London:20240918T184500
DTSTAMP:20260419T140548
CREATED:20240606T112920Z
LAST-MODIFIED:20241030T142413Z
UID:7410-1726685100-1726685100@www.atherstone-tc.gov.uk
SUMMARY:Community Forum
DESCRIPTION:
URL:https://www.atherstone-tc.gov.uk/event/community-forum-5/
LOCATION:The Committee Room\, Civic Suite\, NWBC\, South St\, Atherstone\, CV9 1DE\, United Kingdom
CATEGORIES:Town Council Meetings
ORGANIZER;CN="Atherstone Town Council":MAILTO:clerk@atherstone-tc.gov.uk
END:VEVENT
BEGIN:VEVENT
DTSTART;TZID=Europe/London:20240725T191500
DTEND;TZID=Europe/London:20240725T191500
DTSTAMP:20260419T140548
CREATED:20240606T110624Z
LAST-MODIFIED:20241010T100521Z
UID:7344-1721934900-1721934900@www.atherstone-tc.gov.uk
SUMMARY:Full Council Meeting (POSTPONED from 10th July)
DESCRIPTION:
URL:https://www.atherstone-tc.gov.uk/event/full-council-meeting-6/
LOCATION:The Committee Room\, Civic Suite\, NWBC\, South St\, Atherstone\, CV9 1DE\, United Kingdom
CATEGORIES:Town Council Meetings
ORGANIZER;CN="Atherstone Town Council":MAILTO:clerk@atherstone-tc.gov.uk
END:VEVENT
BEGIN:VEVENT
DTSTART;TZID=Europe/London:20240725T184500
DTEND;TZID=Europe/London:20240725T184500
DTSTAMP:20260419T140548
CREATED:20240606T112754Z
LAST-MODIFIED:20240917T110702Z
UID:7404-1721933100-1721933100@www.atherstone-tc.gov.uk
SUMMARY:Community Forum
DESCRIPTION:
URL:https://www.atherstone-tc.gov.uk/event/community-forum-3/
LOCATION:The Committee Room\, Civic Suite\, NWBC\, South St\, Atherstone\, CV9 1DE\, United Kingdom
CATEGORIES:Town Council Meetings
ORGANIZER;CN="Atherstone Town Council":MAILTO:clerk@atherstone-tc.gov.uk
END:VEVENT
BEGIN:VEVENT
DTSTART;TZID=Europe/London:20240620T191500
DTEND;TZID=Europe/London:20240620T191500
DTSTAMP:20260419T140548
CREATED:20240606T110515Z
LAST-MODIFIED:20240816T141103Z
UID:7341-1718910900-1718910900@www.atherstone-tc.gov.uk
SUMMARY:Full Council Meeting
DESCRIPTION:
URL:https://www.atherstone-tc.gov.uk/event/full-council-meeting-5/
LOCATION:The Committee Room\, Civic Suite\, NWBC\, South St\, Atherstone\, CV9 1DE\, United Kingdom
CATEGORIES:Town Council Meetings
ORGANIZER;CN="Atherstone Town Council":MAILTO:clerk@atherstone-tc.gov.uk
END:VEVENT
BEGIN:VEVENT
DTSTART;TZID=Europe/London:20240516T190000
DTEND;TZID=Europe/London:20240516T190000
DTSTAMP:20260419T140548
CREATED:20240212T100103Z
LAST-MODIFIED:20240625T080436Z
UID:6671-1715886000-1715886000@www.atherstone-tc.gov.uk
SUMMARY:Annual Town Council Meeting 16th May 2024
DESCRIPTION:
URL:https://www.atherstone-tc.gov.uk/event/full-council-meeting-4/
LOCATION:The Committee Room\, Civic Suite\, NWBC\, South St\, Atherstone\, CV9 1DE\, United Kingdom
CATEGORIES:Town Council Meetings
ORGANIZER;CN="Atherstone Town Council":MAILTO:clerk@atherstone-tc.gov.uk
END:VEVENT
BEGIN:VEVENT
DTSTART;TZID=Europe/London:20240417T190000
DTEND;TZID=Europe/London:20240417T190000
DTSTAMP:20260419T140548
CREATED:20240212T095935Z
LAST-MODIFIED:20240524T134430Z
UID:6668-1713380400-1713380400@www.atherstone-tc.gov.uk
SUMMARY:Full Council Meeting
DESCRIPTION:
URL:https://www.atherstone-tc.gov.uk/event/full-council-meeting-3/
LOCATION:The Committee Room\, Civic Suite\, NWBC\, South St\, Atherstone\, CV9 1DE\, United Kingdom
CATEGORIES:Town Council Meetings
ORGANIZER;CN="Atherstone Town Council":MAILTO:clerk@atherstone-tc.gov.uk
END:VEVENT
BEGIN:VEVENT
DTSTART;TZID=Europe/London:20240320T190000
DTEND;TZID=Europe/London:20240320T190000
DTSTAMP:20260419T140548
CREATED:20240212T095804Z
LAST-MODIFIED:20240531T234226Z
UID:6665-1710961200-1710961200@www.atherstone-tc.gov.uk
SUMMARY:Full Council Meeting
DESCRIPTION:
URL:https://www.atherstone-tc.gov.uk/event/full-council-meeting-2/
LOCATION:The Committee Room\, Civic Suite\, NWBC\, South St\, Atherstone\, CV9 1DE\, United Kingdom
CATEGORIES:Town Council Meetings
ORGANIZER;CN="Atherstone Town Council":MAILTO:clerk@atherstone-tc.gov.uk
END:VEVENT
BEGIN:VEVENT
DTSTART;TZID=Europe/London:20240214T190000
DTEND;TZID=Europe/London:20240214T190000
DTSTAMP:20260419T140548
CREATED:20240209T101932Z
LAST-MODIFIED:20240531T234259Z
UID:6654-1707937200-1707937200@www.atherstone-tc.gov.uk
SUMMARY:Full Council Meeting
DESCRIPTION:
URL:https://www.atherstone-tc.gov.uk/event/full-council-meeting/
LOCATION:The Committee Room\, Civic Suite\, NWBC\, South St\, Atherstone\, CV9 1DE\, United Kingdom
CATEGORIES:Town Council Meetings
ORGANIZER;CN="Atherstone Town Council":MAILTO:clerk@atherstone-tc.gov.uk
END:VEVENT
BEGIN:VEVENT
DTSTART;TZID=Europe/London:20231101T193000
DTEND;TZID=Europe/London:20231101T193000
DTSTAMP:20260419T140548
CREATED:20231027T133013Z
LAST-MODIFIED:20231027T133013Z
UID:6097-1698867000-1698867000@www.atherstone-tc.gov.uk
SUMMARY:Extraordinary Town Council Meeting
DESCRIPTION:
URL:https://www.atherstone-tc.gov.uk/event/extraordinary-town-council-meeting/
LOCATION:The Committee Room\, Civic Suite\, NWBC\, South St\, Atherstone\, CV9 1DE\, United Kingdom
CATEGORIES:Town Council Meetings
ORGANIZER;CN="Atherstone Town Council":MAILTO:clerk@atherstone-tc.gov.uk
END:VEVENT
BEGIN:VEVENT
DTSTART;TZID=Europe/London:20231101T190000
DTEND;TZID=Europe/London:20231101T193000
DTSTAMP:20260419T140548
CREATED:20231101T144337Z
LAST-MODIFIED:20231101T144911Z
UID:6116-1698865200-1698867000@www.atherstone-tc.gov.uk
SUMMARY:General Purpose Committee Meeting
DESCRIPTION:
URL:https://www.atherstone-tc.gov.uk/event/general-purpose-committee-meeting/
LOCATION:The Committee Room\, Civic Suite\, NWBC\, South St\, Atherstone\, CV9 1DE\, United Kingdom
CATEGORIES:Town Council Meetings
ORGANIZER;CN="Atherstone Town Council":MAILTO:clerk@atherstone-tc.gov.uk
END:VEVENT
BEGIN:VEVENT
DTSTART;TZID=Europe/London:20210816T190000
DTEND;TZID=Europe/London:20210816T210000
DTSTAMP:20260419T140548
CREATED:20210811T090010Z
LAST-MODIFIED:20210811T091731Z
UID:3043-1629140400-1629147600@www.atherstone-tc.gov.uk
SUMMARY:EGM 16th August 2021
DESCRIPTION:Venue: Atherstone Sports Club\, Ratcliffe Road\, Atherstone\, CV9 1LX.
URL:https://www.atherstone-tc.gov.uk/event/egm-16th-august-2021/
LOCATION:Atherstone Sports Club
CATEGORIES:Town Council Meetings
ORGANIZER;CN="Atherstone Town Council":MAILTO:clerk@atherstone-tc.gov.uk
END:VEVENT
BEGIN:VEVENT
DTSTART;TZID=Europe/London:20210428T063000
DTEND;TZID=Europe/London:20210428T063000
DTSTAMP:20260419T140548
CREATED:20250609T100208Z
LAST-MODIFIED:20250609T102704Z
UID:9326-1619591400-1619591400@www.atherstone-tc.gov.uk
SUMMARY:Annual Parish Meeting 2021
DESCRIPTION:
URL:https://www.atherstone-tc.gov.uk/event/annual-parish-meeting-2021/
LOCATION:The Committee Room\, Civic Suite\, NWBC\, South St\, Atherstone\, CV9 1DE\, United Kingdom
CATEGORIES:Town Council Meetings
ORGANIZER;CN="Atherstone Town Council":MAILTO:clerk@atherstone-tc.gov.uk
END:VEVENT
BEGIN:VEVENT
DTSTART;VALUE=DATE:20210421
DTEND;VALUE=DATE:20210422
DTSTAMP:20260419T140548
CREATED:20200528T144810Z
LAST-MODIFIED:20200528T144833Z
UID:1631-1618963200-1619049599@www.atherstone-tc.gov.uk
SUMMARY:Town Council Meeting
DESCRIPTION:Due to Covid 19 this meeting will be a virtual Zoom meeting. Members of the public are welcome to attend\, details of how to connect will be on the Agenda when published.
URL:https://www.atherstone-tc.gov.uk/event/town-council-meeting-12/
LOCATION:The Committee Room\, Civic Suite\, NWBC\, South St\, Atherstone\, CV9 1DE\, United Kingdom
CATEGORIES:Town Council Meetings
ORGANIZER;CN="Atherstone Town Council":MAILTO:clerk@atherstone-tc.gov.uk
END:VEVENT
BEGIN:VEVENT
DTSTART;VALUE=DATE:20210317
DTEND;VALUE=DATE:20210318
DTSTAMP:20260419T140548
CREATED:20200528T144706Z
LAST-MODIFIED:20200528T144718Z
UID:1626-1615939200-1616025599@www.atherstone-tc.gov.uk
SUMMARY:Town Council Meeting
DESCRIPTION:Due to Covid 19 this meeting will be a virtual Zoom meeting. Members of the public are welcome to attend\, details of how to connect will be on the Agenda when published.
URL:https://www.atherstone-tc.gov.uk/event/town-council-meeting-11/
LOCATION:The Committee Room\, Civic Suite\, NWBC\, South St\, Atherstone\, CV9 1DE\, United Kingdom
CATEGORIES:Town Council Meetings
ORGANIZER;CN="Atherstone Town Council":MAILTO:clerk@atherstone-tc.gov.uk
END:VEVENT
END:VCALENDAR