BEGIN:VCALENDAR
VERSION:2.0
PRODID:-//Atherstone Town Council - ECPv6.15.18//NONSGML v1.0//EN
CALSCALE:GREGORIAN
METHOD:PUBLISH
X-WR-CALNAME:Atherstone Town Council
X-ORIGINAL-URL:https://www.atherstone-tc.gov.uk
X-WR-CALDESC:Events for Atherstone Town Council
REFRESH-INTERVAL;VALUE=DURATION:PT1H
X-Robots-Tag:noindex
X-PUBLISHED-TTL:PT1H
BEGIN:VTIMEZONE
TZID:Europe/London
BEGIN:STANDARD
TZOFFSETFROM:+0100
TZOFFSETTO:+0000
TZNAME:GMT
DTSTART:19711031T020000
END:STANDARD
END:VTIMEZONE
BEGIN:VEVENT
DTSTART;TZID=Europe/London:20260420T235652
DTEND;TZID=Europe/London:20260420T235652
DTSTAMP:20260420T235652
CREATED:20220513T120517Z
LAST-MODIFIED:20220513T120517Z
UID:3932-0-0@www.atherstone-tc.gov.uk
SUMMARY:Annual Town Council Meeting
DESCRIPTION:
URL:https://www.atherstone-tc.gov.uk/event/annual-town-council-meeting-2/
LOCATION:The Committee Room\, Civic Suite\, NWBC\, South St\, Atherstone\, CV9 1DE\, United Kingdom
CATEGORIES:Town Council Meetings
ORGANIZER;CN="Atherstone Town Council":MAILTO:clerk@atherstone-tc.gov.uk
END:VEVENT
BEGIN:VEVENT
DTSTART;TZID=Europe/London:20260420T235652
DTEND;TZID=Europe/London:20260420T235652
DTSTAMP:20260420T235652
CREATED:20220107T130521Z
LAST-MODIFIED:20220107T130521Z
UID:3585-0-0@www.atherstone-tc.gov.uk
SUMMARY:EGM
DESCRIPTION:
URL:https://www.atherstone-tc.gov.uk/event/egm/
LOCATION:The Committee Room\, Civic Suite\, NWBC\, South St\, Atherstone\, CV9 1DE\, United Kingdom
CATEGORIES:Town Council Meetings
ORGANIZER;CN="Atherstone Town Council":MAILTO:clerk@atherstone-tc.gov.uk
END:VEVENT
BEGIN:VEVENT
DTSTART;TZID=Europe/London:20260420T235652
DTEND;TZID=Europe/London:20260420T235652
DTSTAMP:20260420T235652
CREATED:20210716T135356Z
LAST-MODIFIED:20210716T135356Z
UID:2938-0-0@www.atherstone-tc.gov.uk
SUMMARY:Town Council Meeting
DESCRIPTION:
URL:https://www.atherstone-tc.gov.uk/event/town-council-meeting-13/
LOCATION:Mancetter Memorial Hall
CATEGORIES:Town Council Meetings
ORGANIZER;CN="Atherstone Town Council":MAILTO:clerk@atherstone-tc.gov.uk
END:VEVENT
BEGIN:VEVENT
DTSTART;TZID=Europe/London:20260420T235652
DTEND;TZID=Europe/London:20260420T235652
DTSTAMP:20260420T235652
CREATED:20210716T134920Z
LAST-MODIFIED:20210716T134920Z
UID:2933-0-0@www.atherstone-tc.gov.uk
SUMMARY:21st July 2021 Full Council Agenda
DESCRIPTION:
URL:https://www.atherstone-tc.gov.uk/event/21st-july-2021-full-council-agenda/
LOCATION:Mancetter Memorial Hall
CATEGORIES:Town Council Meetings
ORGANIZER;CN="Atherstone Town Council":MAILTO:clerk@atherstone-tc.gov.uk
END:VEVENT
BEGIN:VEVENT
DTSTART;TZID=Europe/London:20260420T235652
DTEND;TZID=Europe/London:20260420T235652
DTSTAMP:20260420T235652
CREATED:20210607T160136Z
LAST-MODIFIED:20210607T160136Z
UID:2804-0-0@www.atherstone-tc.gov.uk
SUMMARY:EGM 11th June 2021
DESCRIPTION:
URL:https://www.atherstone-tc.gov.uk/event/egm-11th-june-2021/
LOCATION:Mancetter Memorial Hall
CATEGORIES:Town Council Meetings
ORGANIZER;CN="Atherstone Town Council":MAILTO:clerk@atherstone-tc.gov.uk
END:VEVENT
END:VCALENDAR